BEGIN:VCALENDAR
VERSION:2.0
PRODID:-//Cristina Verbena - ECPv6.15.17.1//NONSGML v1.0//EN
CALSCALE:GREGORIAN
METHOD:PUBLISH
X-ORIGINAL-URL:https://www.cristinaverbena.com
X-WR-CALDESC:Eventos para Cristina Verbena
REFRESH-INTERVAL;VALUE=DURATION:PT1H
X-Robots-Tag:noindex
X-PUBLISHED-TTL:PT1H
BEGIN:VTIMEZONE
TZID:Europe/Madrid
BEGIN:DAYLIGHT
TZOFFSETFROM:+0100
TZOFFSETTO:+0200
TZNAME:CEST
DTSTART:20230326T010000
END:DAYLIGHT
BEGIN:STANDARD
TZOFFSETFROM:+0200
TZOFFSETTO:+0100
TZNAME:CET
DTSTART:20231029T010000
END:STANDARD
BEGIN:DAYLIGHT
TZOFFSETFROM:+0100
TZOFFSETTO:+0200
TZNAME:CEST
DTSTART:20240331T010000
END:DAYLIGHT
BEGIN:STANDARD
TZOFFSETFROM:+0200
TZOFFSETTO:+0100
TZNAME:CET
DTSTART:20241027T010000
END:STANDARD
BEGIN:DAYLIGHT
TZOFFSETFROM:+0100
TZOFFSETTO:+0200
TZNAME:CEST
DTSTART:20250330T010000
END:DAYLIGHT
BEGIN:STANDARD
TZOFFSETFROM:+0200
TZOFFSETTO:+0100
TZNAME:CET
DTSTART:20251026T010000
END:STANDARD
BEGIN:DAYLIGHT
TZOFFSETFROM:+0100
TZOFFSETTO:+0200
TZNAME:CEST
DTSTART:20260329T010000
END:DAYLIGHT
BEGIN:STANDARD
TZOFFSETFROM:+0200
TZOFFSETTO:+0100
TZNAME:CET
DTSTART:20261025T010000
END:STANDARD
END:VTIMEZONE
BEGIN:VEVENT
DTSTART;TZID=Europe/Madrid:20250221T180000
DTEND;TZID=Europe/Madrid:20250221T190000
DTSTAMP:20260423T123734
CREATED:20250113T182548Z
LAST-MODIFIED:20250113T182548Z
UID:95565-1740160800-1740164400@www.cristinaverbena.com
SUMMARY:EN LAS ROZAS\, MADRID
DESCRIPTION:EN LA BIBLIOTECA LAS ROZAS \nLA SESIÓN DE NARRACIÓN ORAL: ¡FABULOSO! Cuentos de aventuras \nRecomendado para personas mayores de 4 años.
URL:https://www.cristinaverbena.com/evento/en-las-rozas-madrid-2/
LOCATION:BIBLIOTECA LAS ROZAS\, MADRID
CATEGORIES:FABULOSO Cuentos de aventuras,Narración oral en Bibliotecas,PÚBLICO INFANTIL
END:VEVENT
BEGIN:VEVENT
DTSTART;TZID=Europe/Madrid:20250221T113000
DTEND;TZID=Europe/Madrid:20250221T123000
DTSTAMP:20260423T123734
CREATED:20250220T175007Z
LAST-MODIFIED:20250220T175007Z
UID:95580-1740137400-1740141000@www.cristinaverbena.com
SUMMARY:ÉRASE UNA VOZ
DESCRIPTION:Cuentos en el aula de pediatría del Hospital Miguel Servet para público hospitalizado\, familiares y personal del hospital.  Proyecto amadrinado por Irene Vallejo con narradoras y narradores profesionales. Con la fundación Cultura en vena. Dirección artística: CrisVerbena \nCuentos por vía oral para sentirse mejor \nSESIÓN DE FEBRERO: MARIANO LASHERAS
URL:https://www.cristinaverbena.com/evento/erase-una-voz-8/
LOCATION:Hospital Miguel Servet
CATEGORIES:Érase una voz
END:VEVENT
BEGIN:VEVENT
DTSTART;TZID=Europe/Madrid:20250215T110000
DTEND;TZID=Europe/Madrid:20250215T123000
DTSTAMP:20260423T123734
CREATED:20241203T111349Z
LAST-MODIFIED:20241203T111349Z
UID:95502-1739617200-1739622600@www.cristinaverbena.com
SUMMARY:LA SUAVE LLUVIA
DESCRIPTION:SESIONES DE CUENTOS PARA BEBÉS BIEN ACOMPAÑADOS \nEN LA BIBLIOTECA LOPE DE VEGA. TRES CANTOS. MADRID \nDOS SESIONES: 11h. y 12h.
URL:https://www.cristinaverbena.com/evento/la-suave-lluvia-2/
LOCATION:Biblioteca Lope de Vega. Tres Cantos
CATEGORIES:NARRACIÓN ORAL PARA BEBÉS
END:VEVENT
BEGIN:VEVENT
DTSTART;TZID=Europe/Madrid:20250214T180000
DTEND;TZID=Europe/Madrid:20250214T190000
DTSTAMP:20260423T123734
CREATED:20250113T182328Z
LAST-MODIFIED:20250113T182328Z
UID:95562-1739556000-1739559600@www.cristinaverbena.com
SUMMARY:EN LAS ROZAS\, MADRID
DESCRIPTION:EN LA BIBLIOTECA Las Matas / Marga Gil Roësset \nLA SESIÓN DE NARRACIÓN ORAL: ¡FABULOSO! Cuentos de aventuras \nRecomendado para personas mayores de 4 años.
URL:https://www.cristinaverbena.com/evento/en-las-rozas-madrid/
LOCATION:BIBLIOTECA LAS MATAS MARGA GIL ROËSSET
CATEGORIES:cuentacuentos,FABULOSO Cuentos de aventuras,gala comicas fest,PÚBLICO INFANTIL
END:VEVENT
BEGIN:VEVENT
DTSTART;TZID=Europe/Madrid:20250207T180000
DTEND;TZID=Europe/Madrid:20250207T190000
DTSTAMP:20260423T123734
CREATED:20250113T182017Z
LAST-MODIFIED:20250113T182017Z
UID:95559-1738951200-1738954800@www.cristinaverbena.com
SUMMARY:LAS ROZAS. MADRID
DESCRIPTION:EN LA BIBLIOTECA LEÓN TOLSTOI \nLA SESIÓN DE NARRACIÓN ORAL: ¡FABULOSO! Cuentos de aventuras \nRecomendado para personas mayores de 4 años.
URL:https://www.cristinaverbena.com/evento/las-rozas-madrid/
LOCATION:Biblioteca Leon Tolstoi\, Las Rozas
END:VEVENT
BEGIN:VEVENT
DTSTART;TZID=Europe/Madrid:20250131T133000
DTEND;TZID=Europe/Madrid:20250131T170000
DTSTAMP:20260423T123734
CREATED:20250113T181639Z
LAST-MODIFIED:20250113T181639Z
UID:95557-1738330200-1738342800@www.cristinaverbena.com
SUMMARY:EN FUENGIROLA
DESCRIPTION:BIBLIOTECA MIGUEL DE CERVANTES \nSESIONES CONCERTADAS CON CENTROS ESCOLARES
URL:https://www.cristinaverbena.com/evento/en-fuengirola-2/
LOCATION:BIBLIOTECA MIGUEL DE CERVANTES\, FUENGIROLA\, FUENGIROLA
CATEGORIES:Narración oral en Bibliotecas,PÚBLICO INFANTIL
END:VEVENT
BEGIN:VEVENT
DTSTART;TZID=Europe/Madrid:20250130T200000
DTEND;TZID=Europe/Madrid:20250130T210000
DTSTAMP:20260423T123734
CREATED:20250113T181430Z
LAST-MODIFIED:20250113T181430Z
UID:95554-1738267200-1738270800@www.cristinaverbena.com
SUMMARY:EN FUENGIROLA
DESCRIPTION:BIBLIOTECA MIGUEL DE CERVANTES \nSESIÓN DE NARRACIÓN ORAL PARA PÚBLICO ADULTO: \nDONDE SILBAN LOS VIENTOS
URL:https://www.cristinaverbena.com/evento/en-fuengirola/
LOCATION:BIBLIOTECA MIGUEL DE CERVANTES\, FUENGIROLA\, FUENGIROLA
CATEGORIES:DONDE SILBAN LOS VIENTOS,Narración oral en Bibliotecas,Público adulto
END:VEVENT
BEGIN:VEVENT
DTSTART;TZID=Europe/Madrid:20250128T120000
DTEND;TZID=Europe/Madrid:20250128T133000
DTSTAMP:20260423T123734
CREATED:20250113T182847Z
LAST-MODIFIED:20250113T182847Z
UID:95568-1738065600-1738071000@www.cristinaverbena.com
SUMMARY:EN LA ESCUELA DE TEATRO DE ZARAGOZA
DESCRIPTION:Con el alumnado de segundo. Hablaremos sobre narración oral
URL:https://www.cristinaverbena.com/evento/en-la-escuela-de-teatro-de-zaragoza/
LOCATION:ESCUELA DE TEATRO DE ZARAGOZA
CATEGORIES:FORMACIÓN,PÚBLICO JOVEN
END:VEVENT
BEGIN:VEVENT
DTSTART;TZID=Europe/Madrid:20250122T090000
DTEND;TZID=Europe/Madrid:20250122T180000
DTSTAMP:20260423T123734
CREATED:20250113T173147Z
LAST-MODIFIED:20250113T173147Z
UID:95550-1737536400-1737568800@www.cristinaverbena.com
SUMMARY:CON FIRA
DESCRIPTION:POR CENTROS ESCOLARES DE TUDELA Y LUDOTECA
URL:https://www.cristinaverbena.com/evento/con-fira-3/
END:VEVENT
BEGIN:VEVENT
DTSTART;TZID=Europe/Madrid:20250121T090000
DTEND;TZID=Europe/Madrid:20250121T133000
DTSTAMP:20260423T123734
CREATED:20250113T172754Z
LAST-MODIFIED:20250113T172754Z
UID:95547-1737450000-1737466200@www.cristinaverbena.com
SUMMARY:CON FIRA
DESCRIPTION:POR CENTROS ESCOLARES DE PAMPLONA
URL:https://www.cristinaverbena.com/evento/con-fira-2/
CATEGORIES:cuentacuentos,PÚBLICO INFANTIL
END:VEVENT
BEGIN:VEVENT
DTSTART;TZID=Europe/Madrid:20250120T093000
DTEND;TZID=Europe/Madrid:20250120T130000
DTSTAMP:20260423T123734
CREATED:20241203T111044Z
LAST-MODIFIED:20250113T173426Z
UID:95500-1737365400-1737378000@www.cristinaverbena.com
SUMMARY:CON FIRA
DESCRIPTION:POR CENTROS ESCOLARES DE PAMPLONA
URL:https://www.cristinaverbena.com/evento/con-fira/
END:VEVENT
BEGIN:VEVENT
DTSTART;TZID=Europe/Madrid:20250114T113000
DTEND;TZID=Europe/Madrid:20250114T123000
DTSTAMP:20260423T123734
CREATED:20241210T153403Z
LAST-MODIFIED:20241210T153403Z
UID:95511-1736854200-1736857800@www.cristinaverbena.com
SUMMARY:ÉRASE UNA VOZ
DESCRIPTION:CON LU DE LURDES \nAULA DE PEDIATRÍA DEL HOSPITAL MIGUEL SERVET \nProyecto amadrinado por Irene Vallejo  con la gestión de Cultura en vena. Dirección artística: CrisVerbena
URL:https://www.cristinaverbena.com/evento/erase-una-voz-7/
LOCATION:Aula de pediatria del Hospital Migue Servet
CATEGORIES:Érase una voz
END:VEVENT
BEGIN:VEVENT
DTSTART;TZID=Europe/Madrid:20241231T110000
DTEND;TZID=Europe/Madrid:20241231T130000
DTSTAMP:20260423T123734
CREATED:20241203T110314Z
LAST-MODIFIED:20241203T110314Z
UID:95493-1735642800-1735650000@www.cristinaverbena.com
SUMMARY:7 LEGUAS Y UN CUENTOS
DESCRIPTION:Con Letizia Solanas. Acting. Comercios Avda. Pablo Gargallo. Almozara
URL:https://www.cristinaverbena.com/evento/7-leguas-y-un-cuentos/
LOCATION:La Almozara
END:VEVENT
BEGIN:VEVENT
DTSTART;TZID=Europe/Madrid:20241230T110000
DTEND;TZID=Europe/Madrid:20241230T130000
DTSTAMP:20260423T123734
CREATED:20241203T110651Z
LAST-MODIFIED:20241203T110746Z
UID:95496-1735556400-1735563600@www.cristinaverbena.com
SUMMARY:7 LEGUAS Y UN CUENTO
DESCRIPTION:Con Letizia Solanas. Acting. Comercios C/ Embarcadero y aledaños. Barrio de Casablanca.
URL:https://www.cristinaverbena.com/evento/siete-leguas-y-un-cuento/
LOCATION:Casablanca\, Zaragoza
END:VEVENT
BEGIN:VEVENT
DTSTART;TZID=Europe/Madrid:20241227T173000
DTEND;TZID=Europe/Madrid:20241227T193000
DTSTAMP:20260423T123734
CREATED:20241203T105925Z
LAST-MODIFIED:20241203T105925Z
UID:95490-1735320600-1735327800@www.cristinaverbena.com
SUMMARY:7 LEGUAS Y UN CUENTO
DESCRIPTION:Con Letizia Solanas. Acting. Comercios Fernando el Católico y aledaños.
URL:https://www.cristinaverbena.com/evento/7-leguas-y-un-cuento-2/
END:VEVENT
BEGIN:VEVENT
DTSTART;TZID=Europe/Madrid:20241226T173000
DTEND;TZID=Europe/Madrid:20241226T203000
DTSTAMP:20260423T123734
CREATED:20241203T105659Z
LAST-MODIFIED:20241203T105659Z
UID:95486-1735234200-1735245000@www.cristinaverbena.com
SUMMARY:7 LEGUAS Y UN CUENTO
DESCRIPTION:Con Letizia Solanas. Acting. Comercios C/Azoque\, Plaza Salamero y C/ Cinco de marzo (Casco Histórico)
URL:https://www.cristinaverbena.com/evento/7-leguas-y-un-cuento/
LOCATION:Centro Historico Zaragoza
END:VEVENT
BEGIN:VEVENT
DTSTART;TZID=Europe/Madrid:20241220T190000
DTEND;TZID=Europe/Madrid:20241220T200000
DTSTAMP:20260423T123734
CREATED:20241203T104216Z
LAST-MODIFIED:20241203T104216Z
UID:95484-1734721200-1734724800@www.cristinaverbena.com
SUMMARY:LOCO AMOR
DESCRIPTION:SESIÓN DE CUENTOS ERÓTICO PARA PÚBLICO ADULTO \nBIBLIOTECA PÚBLICA DE GARRAPINILLOS \n 
URL:https://www.cristinaverbena.com/evento/loco-amor/
END:VEVENT
BEGIN:VEVENT
DTSTART;TZID=Europe/Madrid:20241218T113000
DTEND;TZID=Europe/Madrid:20241218T123000
DTSTAMP:20260423T123734
CREATED:20241210T153153Z
LAST-MODIFIED:20241210T153153Z
UID:95509-1734521400-1734525000@www.cristinaverbena.com
SUMMARY:ÉRASE UNA VOZ
DESCRIPTION:CON YOSHI HIOKI \nAULA DE PEDIATRÍA DEL HOSPITAL MIGUEL SERVET \nProyecto amadrinado por Irene Vallejo  con la gestión de Cultura en vena. Dirección artística: CrisVerbena \n 
URL:https://www.cristinaverbena.com/evento/erase-una-voz-6/
LOCATION:Aula de pediatria del Hospital Migue Servet
CATEGORIES:Érase una voz
END:VEVENT
BEGIN:VEVENT
DTSTART;TZID=Europe/Madrid:20241213T173000
DTEND;TZID=Europe/Madrid:20241213T183000
DTSTAMP:20260423T123734
CREATED:20241203T103820Z
LAST-MODIFIED:20241203T103820Z
UID:95481-1734111000-1734114600@www.cristinaverbena.com
SUMMARY:LA SUAVE LLUVIA
DESCRIPTION:SESIÓN DE CUENTOS PARA BEBÉS BIEN ACOMPAÑADOS \nBIBLIOTECA HOYO DE MANZANARES (MADRID)
URL:https://www.cristinaverbena.com/evento/la-suave-lluvia/
LOCATION:Biblioteca Hoyo de Manzanares
END:VEVENT
BEGIN:VEVENT
DTSTART;TZID=Europe/Madrid:20241207T170000
DTEND;TZID=Europe/Madrid:20241207T180000
DTSTAMP:20260423T123734
CREATED:20240812T094046Z
LAST-MODIFIED:20240812T094046Z
UID:95448-1733590800-1733594400@www.cristinaverbena.com
SUMMARY:A LA FRESCA EN CINCO VILLAS
DESCRIPTION:EN BIOTA \nBIBLIOTECA MUNICIPAL \nSESIÓN: ESTE PÁJARO AL REVÉS
URL:https://www.cristinaverbena.com/evento/a-la-fresca-en-cinco-villas-2/
LOCATION:BIOTA
CATEGORIES:Narración oral en Bibliotecas,Público familiar
END:VEVENT
BEGIN:VEVENT
DTSTART;VALUE=DATE:20241121
DTEND;VALUE=DATE:20241122
DTSTAMP:20260423T123734
CREATED:20241016T170930Z
LAST-MODIFIED:20241016T170930Z
UID:95476-1732147200-1732233599@www.cristinaverbena.com
SUMMARY:EN ALBACETE
DESCRIPTION:SESIÓN DE NARRACIÓN PARA LA CLAUSURA DE LAS JORNADAS DE BIBLIOTECAS ESCOLARES: \nLETRAS PARA SALVAR EL PLANETA
URL:https://www.cristinaverbena.com/evento/en-albacete/
END:VEVENT
BEGIN:VEVENT
DTSTART;TZID=Europe/Madrid:20241119T200000
DTEND;TZID=Europe/Madrid:20241119T210000
DTSTAMP:20260423T123734
CREATED:20240812T100309Z
LAST-MODIFIED:20240812T100309Z
UID:95458-1732046400-1732050000@www.cristinaverbena.com
SUMMARY:TARDES CONFABULADAS
DESCRIPTION:CICLO DE NARRACIÓN ORAL PARA PÚBLICO ADULTO \nNARRADOR: NICOLÁS BUENAVENTURA \nSESIÓN: LA DICHA DE LA PALABRA DICHA \nENTRADA LIBRE HASTA COMPLETAR AFORO \nEN EL AUDITORIO DE ZARAGOZA: SALA LUIS GALVE \nORGANIZA: BIBLIOTECAS PÚBLICAS DE ZARAGOZA. PROGRAMA: YO LEO EN ZARAGOZA \nDIRECTORA ARTÍSTICA: CRISVERBENA \n 
URL:https://www.cristinaverbena.com/evento/tardes-confabuladas-4/
LOCATION:SALA LUIS GALVE\, AUDITORIO DE ZARAGOZA
CATEGORIES:CICLO DE NARRACIÓN ORAL PARA PÚBLICO ADULTO,TARDES CONFABULADAS,YO LEO EN ZARAGOZA
END:VEVENT
BEGIN:VEVENT
DTSTART;TZID=Europe/Madrid:20241119T113000
DTEND;TZID=Europe/Madrid:20241119T123000
DTSTAMP:20260423T123734
CREATED:20241016T165916Z
LAST-MODIFIED:20241016T165916Z
UID:95470-1732015800-1732019400@www.cristinaverbena.com
SUMMARY:ÉRASE UNA VOZ
DESCRIPTION:Sesión de cuentos para público infantil hospitalizado. \nEn el aula de pediatría del Hospital Miguel Servet. \nNarradora: PAULA CARBALLEIRA \nProyecto amadrinado por IRENE VALLEJO \nColabora: Fundación CULTURA EN VENA \nDirección artística: CrisVerbena
URL:https://www.cristinaverbena.com/evento/erase-una-voz-5/
LOCATION:Hospital Miguel Servet
CATEGORIES:Érase una voz
END:VEVENT
BEGIN:VEVENT
DTSTART;TZID=Europe/Madrid:20241116T110000
DTEND;TZID=Europe/Madrid:20241116T133000
DTSTAMP:20260423T123734
CREATED:20241016T164927Z
LAST-MODIFIED:20241016T164927Z
UID:95465-1731754800-1731763800@www.cristinaverbena.com
SUMMARY:TERUEL. BIBLIOTECA PÚBLICA
DESCRIPTION:DOS SESIONES DE: GRANDIOSO MUNDO BOTÓN \n11h. \n12’30h. \nElige cual te viene mejor.
URL:https://www.cristinaverbena.com/evento/teruel-biblioteca-publica/
LOCATION:BIBLIOTECA PÚBLICA DE TERUEL
CATEGORIES:Grandioso Mundo Botón,Narración oral en Bibliotecas
END:VEVENT
BEGIN:VEVENT
DTSTART;TZID=Europe/Madrid:20241116T110000
DTEND;TZID=Europe/Madrid:20241116T133000
DTSTAMP:20260423T123734
CREATED:20240812T093830Z
LAST-MODIFIED:20240812T093830Z
UID:95445-1731754800-1731763800@www.cristinaverbena.com
SUMMARY:BIBLIOTECA PÚBLICA DE TERUEL
DESCRIPTION:DOBLE SESIÓN PARA PÚBLICO FAMILIAR: \nGRANDIOSO MUNDO BOTÓN \nPRIMERA SESIÓN: 11h. SEGUNDA SESIÓN: 12’30h.
URL:https://www.cristinaverbena.com/evento/biblioteca-publica-de-teruel/
LOCATION:BIBLIOTECA PÚBLICA DE TERUEL
CATEGORIES:Narración oral en Bibliotecas,Público familiar
END:VEVENT
BEGIN:VEVENT
DTSTART;TZID=Europe/Madrid:20241115T180000
DTEND;TZID=Europe/Madrid:20241115T190000
DTSTAMP:20260423T123734
CREATED:20240610T081919Z
LAST-MODIFIED:20240610T081919Z
UID:95282-1731693600-1731697200@www.cristinaverbena.com
SUMMARY:EN LAS ROZAS. BIBLIOTECA MARGA GIL ROESSET. LAS MATAS. MADRID.
DESCRIPTION:SESIÓN PARA PÚBLICO INFANTIL: \nMADRIGUERAS.
URL:https://www.cristinaverbena.com/evento/en-las-rozas-biblioteca-marga-gil-roesset-las-matas-madrid/
CATEGORIES:Narración oral en Bibliotecas,PÚBLICO INFANTIL
END:VEVENT
BEGIN:VEVENT
DTSTART;TZID=Europe/Madrid:20241111T100000
DTEND;TZID=Europe/Madrid:20241111T113000
DTSTAMP:20260423T123734
CREATED:20241016T170712Z
LAST-MODIFIED:20241016T170712Z
UID:95473-1731319200-1731324600@www.cristinaverbena.com
SUMMARY:VOZ(ES) PIEZA NARRATIVO MUSICAL
DESCRIPTION:CON PATO BADIAN \nPARA ALUMNADO DE BACHILLERATO DEL IES. BLECUA \n 
URL:https://www.cristinaverbena.com/evento/vozes-pieza-narrativo-musical/
LOCATION:SALA CINE VENECIA
CATEGORIES:PÚBLICO JOVEN,VOZ(ES)
END:VEVENT
BEGIN:VEVENT
DTSTART;TZID=Europe/Madrid:20241104T200000
DTEND;TZID=Europe/Madrid:20241104T210000
DTSTAMP:20260423T123734
CREATED:20240812T100045Z
LAST-MODIFIED:20240812T100045Z
UID:95456-1730750400-1730754000@www.cristinaverbena.com
SUMMARY:TARDES CONFABULADAS
DESCRIPTION:CICLO DE NARRACIÓN ORAL PARA PÚBLICO ADULTO \nNARRADORA: COTÉ RIVARA \nSESIÓN: CUENTOS DE AMÉRICA DEL SUR \nENTRADA LIBRE HASTA COMPLETAR AFORO \nEN EL AUDITORIO DE ZARAGOZA: SALA LUIS GALVE \nORGANIZA: BIBLIOTECAS PÚBLICAS DE ZARAGOZA. PROGRAMA: YO LEO EN ZARAGOZA \nDIRECTORA ARTÍSTICA: CRISVERBENA \n 
URL:https://www.cristinaverbena.com/evento/tardes-confabuladas-3/
LOCATION:SALA LUIS GALVE\, AUDITORIO DE ZARAGOZA
CATEGORIES:CICLO DE NARRACIÓN ORAL PARA PÚBLICO ADULTO,TARDES CONFABULADAS,YO LEO EN ZARAGOZA
END:VEVENT
BEGIN:VEVENT
DTSTART;TZID=Europe/Madrid:20241030T113000
DTEND;TZID=Europe/Madrid:20241030T123000
DTSTAMP:20260423T123734
CREATED:20241016T165636Z
LAST-MODIFIED:20241016T165636Z
UID:95467-1730287800-1730291400@www.cristinaverbena.com
SUMMARY:ÉRASE UNA VOZ
DESCRIPTION:Sesión de cuentos para público infantil hospitalizado. \nEn el aula de pediatría del Hospital Miguel Servet. \nNarradora: ESTRELLA ORTIZ \nProyecto amadrinado por IRENE VALLEJO \nColabora: Fundación CULTURA EN VENA \nDirección artística: CrisVerbena
URL:https://www.cristinaverbena.com/evento/erase-una-voz-4/
LOCATION:Aula de pediatria del Hospital Migue Servet
CATEGORIES:cuentacuentos,Érase una voz
END:VEVENT
BEGIN:VEVENT
DTSTART;TZID=Europe/Madrid:20241029T200000
DTEND;TZID=Europe/Madrid:20241029T210000
DTSTAMP:20260423T123734
CREATED:20240812T095806Z
LAST-MODIFIED:20240812T095806Z
UID:95454-1730232000-1730235600@www.cristinaverbena.com
SUMMARY:TARDES CONFABULADAS
DESCRIPTION:CICLO DE NARRACIÓN ORAL PARA PÚBLICO ADULTO \nNARRADORA: ESTRELLA ORTIZ \nSESIÓN: ARTILIBROS Y OTROS CUENTOS \nENTRADA LIBRE HASTA COMPLETAR AFORO \nEN EL AUDITORIO DE ZARAGOZA: SALA LUIS GALVE \nORGANIZA: BIBLIOTECAS PÚBLICAS DE ZARAGOZA. PROGRAMA: YO LEO EN ZARAGOZA \nDIRECTORA ARTÍSTICA: CRISVERBENA \n 
URL:https://www.cristinaverbena.com/evento/tardes-confabuladas-2/
LOCATION:SALA LUIS GALVE\, AUDITORIO DE ZARAGOZA
CATEGORIES:CICLO DE NARRACIÓN ORAL PARA PÚBLICO ADULTO,TARDES CONFABULADAS,YO LEO EN ZARAGOZA
END:VEVENT
END:VCALENDAR